BEGIN:VCALENDAR
VERSION:2.0
PRODID:-//eventon.com NONSGML v1.0//EN
CALSCALE:GREGORIAN
METHOD:PUBLISH
BEGIN:VEVENT
UID:69e6462b5ef3b
DTSTAMP:20260420T152843Z
DTSTART:20230811T123000Z
DTEND:20230811T210000Z
LOCATION:
SUMMARY:JORNADA CELEBRATORIA DE LA MAESTRIA EN PSICOLOGIA SOCIAL
DESCRIPTION:Más información\nhttps://www.psicologia.unt.edu.ar/events/jor
 nada-celebratoria-de-la-maestria-en-psicologia-social/
URL:https://www.psicologia.unt.edu.ar/events/jornada-celebratoria-de-la-maestria-en-psicologia-social/
END:VEVENT
END:VCALENDAR